BEGIN:VCALENDAR
VERSION:2.0
PRODID:-//hacksw/handcal//NONSGML v1.0//EN
BEGIN:VEVENT
UID:79bb389e85856a9d1462907e6d9f5718
DTSTAMP:20260420T083234Z

DTSTART:20240605T000000
DTEND:20240605T000000
SUMMARY:Segundo Taller Regional: Ejercicio de prospectiva para la Latinoamérica y el Caribe. 
DESCRIPTION:En este segundo taller dentro del marco del ajuste y difusion de la metodología de prospectiva para servicios de extensión y asesoramiento rural (SAR), así como para tecnologías e innovaciones emergentes, desarrollada por FAO y CIRAD en el 2022, continuaremos con la construccion del escenario deseable y posible en la region LAC. \nEste es un evento organizado por RELASER para la region LAC. Si desea mas informacion, no dude en contactarnos! \nmbriones@relaser.org

X-ALT-DESC;FMTTYPE=text/html:<!DOCTYPE HTML PUBLIC "-//W3C//DTD HTML 3.2//EN">\n<HTML>\n<HEAD>\n<META NAME="Generator" CONTENT="MS Exchange Server version 08.00.0681.000">\n<TITLE></TITLE>\n</HEAD>\n<BODY>\n<!-- Converted from text/rtf format -->\n\nEn este segundo taller dentro del marco del ajuste y difusion de la metodología de prospectiva para servicios de extensión y asesoramiento rural (SAR), así como para tecnologías e innovaciones emergentes, desarrollada por FAO y CIRAD en el 2022, continuaremos con la construccion del escenario deseable y posible en la region LAC. <br />Este es un evento organizado por RELASER para la region LAC. Si desea mas informacion, no dude en contactarnos! <br />mbriones@relaser.org\n\n</BODY>\n</HTML>

LOCATION:
END:VEVENT

END:VCALENDAR
